BEGIN:VCALENDAR
VERSION:2.0
PRODID:-//Cottingham Civic Hall - ECPv6.15.20//NONSGML v1.0//EN
CALSCALE:GREGORIAN
METHOD:PUBLISH
X-ORIGINAL-URL:https://www.cottinghamcivichall.com
X-WR-CALDESC:Events for Cottingham Civic Hall
REFRESH-INTERVAL;VALUE=DURATION:PT1H
X-Robots-Tag:noindex
X-PUBLISHED-TTL:PT1H
BEGIN:VTIMEZONE
TZID:Europe/London
BEGIN:DAYLIGHT
TZOFFSETFROM:+0000
TZOFFSETTO:+0100
TZNAME:BST
DTSTART:20200329T010000
END:DAYLIGHT
BEGIN:STANDARD
TZOFFSETFROM:+0100
TZOFFSETTO:+0000
TZNAME:GMT
DTSTART:20201025T010000
END:STANDARD
BEGIN:DAYLIGHT
TZOFFSETFROM:+0000
TZOFFSETTO:+0100
TZNAME:BST
DTSTART:20210328T010000
END:DAYLIGHT
BEGIN:STANDARD
TZOFFSETFROM:+0100
TZOFFSETTO:+0000
TZNAME:GMT
DTSTART:20211031T010000
END:STANDARD
BEGIN:DAYLIGHT
TZOFFSETFROM:+0000
TZOFFSETTO:+0100
TZNAME:BST
DTSTART:20220327T010000
END:DAYLIGHT
BEGIN:STANDARD
TZOFFSETFROM:+0100
TZOFFSETTO:+0000
TZNAME:GMT
DTSTART:20221030T010000
END:STANDARD
END:VTIMEZONE
BEGIN:VEVENT
DTSTART;TZID=Europe/London:20211219T140000
DTEND;TZID=Europe/London:20211219T170000
DTSTAMP:20260423T222910
CREATED:20211130T141248Z
LAST-MODIFIED:20211130T141248Z
UID:14285-1639922400-1639933200@www.cottinghamcivichall.com
SUMMARY:Cinderella
DESCRIPTION:Rehearsals are under way for our annual pantomime which this year is Cinderella – the most people panto of all.\nAudiences will fall in love with Buttons\, the Fairy Godmother and Cinders. It will also be lots of fun booing the nasty ugly sisters and the evil Baroness.\n\nWe missed panto so much last year and we can’t wait to bring this fabulous\, fun filled\, family pantomime to the Civic Hall.\n\nThere will be all the usual audience participation and it will be the perfect way to start Christmas. Don’t forget we have extra matinee performances on 23rd December and Christmas eve – This one is selling VERY fast. Hope to see you there.\n\nTickets on sale now\, in person from Barkers of Cottingham.
URL:https://www.cottinghamcivichall.com/event/cinderella-3/
CATEGORIES:Theatre
ATTACH;FMTTYPE=image/jpeg:https://www.cottinghamcivichall.com/wp-content/uploads/2021/11/188837420_166661618650148_6044856565553500327_n.jpg
END:VEVENT
BEGIN:VEVENT
DTSTART;TZID=Europe/London:20211218T190000
DTEND;TZID=Europe/London:20211218T220000
DTSTAMP:20260423T222910
CREATED:20211130T141034Z
LAST-MODIFIED:20211130T141034Z
UID:14283-1639854000-1639864800@www.cottinghamcivichall.com
SUMMARY:Cinderella
DESCRIPTION:Rehearsals are under way for our annual pantomime which this year is Cinderella – the most people panto of all.\nAudiences will fall in love with Buttons\, the Fairy Godmother and Cinders. It will also be lots of fun booing the nasty ugly sisters and the evil Baroness.\n\nWe missed panto so much last year and we can’t wait to bring this fabulous\, fun filled\, family pantomime to the Civic Hall.\n\nThere will be all the usual audience participation and it will be the perfect way to start Christmas. Don’t forget we have extra matinee performances on 23rd December and Christmas eve – This one is selling VERY fast. Hope to see you there.\n\nTickets on sale now\, in person from Barkers of Cottingham.
URL:https://www.cottinghamcivichall.com/event/cinderella-2/
CATEGORIES:Theatre
ATTACH;FMTTYPE=image/jpeg:https://www.cottinghamcivichall.com/wp-content/uploads/2021/11/188837420_166661618650148_6044856565553500327_n.jpg
END:VEVENT
BEGIN:VEVENT
DTSTART;TZID=Europe/London:20211218T140000
DTEND;TZID=Europe/London:20211218T170000
DTSTAMP:20260423T222910
CREATED:20211130T140637Z
LAST-MODIFIED:20211130T140637Z
UID:14280-1639836000-1639846800@www.cottinghamcivichall.com
SUMMARY:Cinderella
DESCRIPTION:Rehearsals are under way for our annual pantomime which this year is Cinderella – the most people panto of all.\nAudiences will fall in love with Buttons\, the Fairy Godmother and Cinders. It will also be lots of fun booing the nasty ugly sisters and the evil Baroness.\n\nWe missed panto so much last year and we can’t wait to bring this fabulous\, fun filled\, family pantomime to the Civic Hall.\n\nThere will be all the usual audience participation and it will be the perfect way to start Christmas. Don’t forget we have extra matinee performances on 23rd December and Christmas eve – This one is selling VERY fast. Hope to see you there.\n\nTickets on sale now\, in person from Barkers of Cottingham.
URL:https://www.cottinghamcivichall.com/event/cinderella/
CATEGORIES:Theatre
ATTACH;FMTTYPE=image/jpeg:https://www.cottinghamcivichall.com/wp-content/uploads/2021/11/188837420_166661618650148_6044856565553500327_n.jpg
END:VEVENT
BEGIN:VEVENT
DTSTART;TZID=Europe/London:20211215T193000
DTEND;TZID=Europe/London:20211215T220000
DTSTAMP:20260423T222910
CREATED:20211025T125340Z
LAST-MODIFIED:20211025T125340Z
UID:14191-1639596600-1639605600@www.cottinghamcivichall.com
SUMMARY:Hull Savoyards presents ‘A Musical Christmas Carol’ - Humbug!’
DESCRIPTION:Hull Savoyards and the Kingston Brass Quintet are to present *‘A Musical Christmas Carol’ – Humbug!’* written by Fraser Charlton (well known in Newcastle for his short shows written for the University and Gosforth Musical Society). ‘Humbug!’ is an adaption of Charles Dickens’ public readings of ‘*A Christmas Carol’* with the addition of various Gilbert & Sullivan songs and traditional Christmas Carols. The show includes a mixture of costumed and staged scenes with a concert style Victorian carol singers chorus. \nThe show contains minimal libretto guided along by a Narrator (Charles Dickins) reading sections of Dickins’ text used in his celebrated public readings. \nTickets are £10.00 and £5.00 for under 16s and students. They are available from Barkers on Hallgate or online at www.ticketsource.co.uk/HullSavoyards and on the door (subject to availability).
URL:https://www.cottinghamcivichall.com/event/hull-savoyards-presents-a-musical-christmas-carol-humbug/
CATEGORIES:Theatre
ATTACH;FMTTYPE=image/jpeg:https://www.cottinghamcivichall.com/wp-content/uploads/2021/10/Humbug_Cottingham-V2-copy.jpg
END:VEVENT
BEGIN:VEVENT
DTSTART;TZID=Europe/London:20211128T193000
DTEND;TZID=Europe/London:20211128T220000
DTSTAMP:20260423T222910
CREATED:20211115T134011Z
LAST-MODIFIED:20211115T134011Z
UID:14271-1638127800-1638136800@www.cottinghamcivichall.com
SUMMARY:Calamity Jane
DESCRIPTION:Featuring the songs “Deadwood Stage”\, “Secret Love”\, “Higher Than A Hawk”\, “Black Hills Of Dakota” and lots more\, this classic musical will delight all ages!\n\n\nJoin Calamity Jane\, Wild Bill Hickock\, Frances Fryer\, Henry Miller\, Katy Brown\, Adelaide Adams and more for a fantastic show that you’re guaranteed to sing along to!\n\n\n\n\nTickets start from just £10 and can be bought from either the box office at Park Street Performing Arts or the large stationary and gift shop Barkers of Cottingham (159 Hallgate).
URL:https://www.cottinghamcivichall.com/event/calamity-jane-2/
CATEGORIES:Theatre
ATTACH;FMTTYPE=image/jpeg:https://www.cottinghamcivichall.com/wp-content/uploads/2021/11/252622519_4833448610043977_3808185318714902996_n.jpg
ORGANIZER;CN="Park Street Performing Arts Centre":MAILTO:info@parkstreethull.co.uk
END:VEVENT
BEGIN:VEVENT
DTSTART;TZID=Europe/London:20211128T140000
DTEND;TZID=Europe/London:20211128T163000
DTSTAMP:20260423T222910
CREATED:20211115T134347Z
LAST-MODIFIED:20211115T134347Z
UID:14273-1638108000-1638117000@www.cottinghamcivichall.com
SUMMARY:Calamity Jane
DESCRIPTION:Featuring the songs “Deadwood Stage”\, “Secret Love”\, “Higher Than A Hawk”\, “Black Hills Of Dakota” and lots more\, this classic musical will delight all ages!\n\n\nJoin Calamity Jane\, Wild Bill Hickock\, Frances Fryer\, Henry Miller\, Katy Brown\, Adelaide Adams and more for a fantastic show that you’re guaranteed to sing along to!\n\n\n\n\nTickets start from just £10 and can be bought from either the box office at Park Street Performing Arts or the large stationary and gift shop Barkers of Cottingham (159 Hallgate).
URL:https://www.cottinghamcivichall.com/event/calamity-jane-3/
CATEGORIES:Theatre
ATTACH;FMTTYPE=image/jpeg:https://www.cottinghamcivichall.com/wp-content/uploads/2021/11/252622519_4833448610043977_3808185318714902996_n.jpg
ORGANIZER;CN="Park Street Performing Arts Centre":MAILTO:info@parkstreethull.co.uk
END:VEVENT
BEGIN:VEVENT
DTSTART;TZID=Europe/London:20211127T193000
DTEND;TZID=Europe/London:20211127T220000
DTSTAMP:20260423T222910
CREATED:20211115T133547Z
LAST-MODIFIED:20211115T133547Z
UID:14268-1638041400-1638050400@www.cottinghamcivichall.com
SUMMARY:Calamity Jane
DESCRIPTION:Featuring the songs “Deadwood Stage”\, “Secret Love”\, “Higher Than A Hawk”\, “Black Hills Of Dakota” and lots more\, this classic musical will delight all ages!\n\n\nJoin Calamity Jane\, Wild Bill Hickock\, Frances Fryer\, Henry Miller\, Katy Brown\, Adelaide Adams and more for a fantastic show that you’re guaranteed to sing along to!\n\n\n\n\nTickets start from just £10 and can be bought from either the box office at Park Street Performing Arts or the large stationary and gift shop Barkers of Cottingham (159 Hallgate).
URL:https://www.cottinghamcivichall.com/event/calamity-jane/
CATEGORIES:Theatre
ATTACH;FMTTYPE=image/jpeg:https://www.cottinghamcivichall.com/wp-content/uploads/2021/11/252622519_4833448610043977_3808185318714902996_n.jpg
ORGANIZER;CN="Park Street Performing Arts Centre":MAILTO:info@parkstreethull.co.uk
END:VEVENT
END:VCALENDAR