BEGIN:VCALENDAR
VERSION:2.0
PRODID:-//Cottingham Civic Hall - ECPv6.15.20//NONSGML v1.0//EN
CALSCALE:GREGORIAN
METHOD:PUBLISH
X-WR-CALNAME:Cottingham Civic Hall
X-ORIGINAL-URL:https://www.cottinghamcivichall.com
X-WR-CALDESC:Events for Cottingham Civic Hall
REFRESH-INTERVAL;VALUE=DURATION:PT1H
X-Robots-Tag:noindex
X-PUBLISHED-TTL:PT1H
BEGIN:VTIMEZONE
TZID:Europe/London
BEGIN:DAYLIGHT
TZOFFSETFROM:+0000
TZOFFSETTO:+0100
TZNAME:BST
DTSTART:20250330T010000
END:DAYLIGHT
BEGIN:STANDARD
TZOFFSETFROM:+0100
TZOFFSETTO:+0000
TZNAME:GMT
DTSTART:20251026T010000
END:STANDARD
BEGIN:DAYLIGHT
TZOFFSETFROM:+0000
TZOFFSETTO:+0100
TZNAME:BST
DTSTART:20260329T010000
END:DAYLIGHT
BEGIN:STANDARD
TZOFFSETFROM:+0100
TZOFFSETTO:+0000
TZNAME:GMT
DTSTART:20261025T010000
END:STANDARD
BEGIN:DAYLIGHT
TZOFFSETFROM:+0000
TZOFFSETTO:+0100
TZNAME:BST
DTSTART:20270328T010000
END:DAYLIGHT
BEGIN:STANDARD
TZOFFSETFROM:+0100
TZOFFSETTO:+0000
TZNAME:GMT
DTSTART:20271031T010000
END:STANDARD
END:VTIMEZONE
BEGIN:VEVENT
DTSTART;TZID=Europe/London:20260502T193000
DTEND;TZID=Europe/London:20260502T230000
DTSTAMP:20260422T134549
CREATED:20251123T142407Z
LAST-MODIFIED:20260118T211014Z
UID:15283-1777750200-1777762800@www.cottinghamcivichall.com
SUMMARY:VENUE CHANGE: Chasing Mumford
DESCRIPTION:PLEASE NOTE – THIS SHOW WILL NOW TAKE PLACE AT THE POLAR BEAR\, HULL – ALL ORIGINAL TICKETS REMAIN VALID \n  \nEstablished in 2015\, Chasing Mumford are the real deal that break the mould of “just another tribute show”. Made up of musicians who have worked all over the globe alongside massive names such as Seal\, Madonna\, Scouting for Girls\, Richard Ashcroft\, Razorlight and more\, they effortlessly recreate the massive stadium highs and the intimate one microphone simplicity of Mumford & Sons’ indie-folk Americana style. Nothing is on tape\, it’s all totally live with no gimmicks – these guys can really play and the harmonies are jaw dropping. \nExpect a sing-a-long night of hit after hit with all of the Brit\, Grammy and Ivor Novello award-winning best selling songs that have made Mumford & Sons such a huge act on the international stage; I Will Wait\, Believe\, Little Lion Man\, Rushmere\, The Cave\, Winter Winds and tons more from this live band with huge energy\, talent and stage presence. \n  \nTickets on sale here >>> \nhttps://www.seetickets.com/event/chasing-mumford/polar-bear-music-club/3549647
URL:https://www.cottinghamcivichall.com/event/screaming-tarts-presents-chasing-mumford/
CATEGORIES:Concerts
ATTACH;FMTTYPE=image/jpeg:https://www.cottinghamcivichall.com/wp-content/uploads/2025/11/CM-rec.jpg
ORGANIZER;CN="SCREAMING TARTS PRESENTS...":MAILTO:martyn@screamingtartspresents.com
END:VEVENT
BEGIN:VEVENT
DTSTART;TZID=Europe/London:20260529T193000
DTEND;TZID=Europe/London:20260529T230000
DTSTAMP:20260422T134549
CREATED:20251123T141847Z
LAST-MODIFIED:20251123T141847Z
UID:15280-1780083000-1780095600@www.cottinghamcivichall.com
SUMMARY:SCREAMING TARTS PRESENTS... UK Foo Fighters
DESCRIPTION:This World-Famous tribute band ‘UK Foo Fighters’takes you on a journey spanning 3 decadesof music from the now legendary band ‘Foo Fighters’ and their charismatic leader\, Dave Grohl. \nFeatured in Classic Rock\, Rolling Stone\, Kerrang\, NME\, Q\, MOJO and Planet Rock magazines. ‘UK Foo Fighters’ have built an incredible reputation over the last 18years\, heralded by Dave Grohl himself and celebrated as ‘THE’ tribute to the Foo’s in a 2017 BBC documentary called ‘UK Foo Fighters -My Hero’\, placing them firmly amongst tribute’s elite. \nThey absolutely nail the true vibe of a Foo’s live experience\, all performed down to the closest detail making it a truly unmissable show for any rock music fan. \nTickets on sale here >>>\nhttps://www.seetickets.com/event/uk-foo-fighters/the-civic-hall/3552220
URL:https://www.cottinghamcivichall.com/event/screaming-tarts-presents-uk-foo-fighters/
ATTACH;FMTTYPE=image/jpeg:https://www.cottinghamcivichall.com/wp-content/uploads/2025/11/FF-rec.jpg
ORGANIZER;CN="SCREAMING TARTS PRESENTS...":MAILTO:martyn@screamingtartspresents.com
END:VEVENT
BEGIN:VEVENT
DTSTART;TZID=Europe/London:20260530T193000
DTEND;TZID=Europe/London:20260530T223000
DTSTAMP:20260422T134549
CREATED:20251123T142945Z
LAST-MODIFIED:20251123T142945Z
UID:15286-1780169400-1780180200@www.cottinghamcivichall.com
SUMMARY:SCREAMING TARTS PRESENTS... Bad Co Legacy
DESCRIPTION:Bad Company enjoyed great success throughout the 1970s. Their first three albums\, ‘Bad Company’ (1974)\, ‘Straight Shooter’ (1975) and ‘Run with the Pack’ (1976)\, reached the top five in the album charts in both the UK and the US. Many of their songs remain staples of classic rock radio.  \nFor seven years Robert Hart was their lead singer. He has also played many years with The Jones Gang with Kenny Jones of The Faces\, and currently with Manfred Mann’s Earthband. Dave ‘Bucket’ Colwell\, guitarist\, spent 12 years in Bad Co\, was a member of Humble Pie for several years recording\, co-writing and producing the album Back on Track\, The Jones Gang\, ASAP and many other bands. \nHart’s powerful vocals and Colwell’s authentic guitar riffs recreate the timeless\, undeniable classics that Bad Company fans demand. The pair  are joined by Pat Davey on bass (Paul Young and Cregan & Co)\, John Lingwood (Manfred Mann’s Earthband) and Roger Chapman\, on drums. \nFans can expect many of the classic songs spanning Bad Company’s repertoire; ‘Ready for Love’\, ‘Can’t Get Enough’\, ‘Rock and Roll Fantasy’\, the list goes on. It promises to be a night to remember! \nTickets on sale here >>>\nhttps://www.seetickets.com/event/bad-co-legacy/the-civic-hall/3547997
URL:https://www.cottinghamcivichall.com/event/screaming-tarts-presents-bad-co-legacy/
ATTACH;FMTTYPE=image/jpeg:https://www.cottinghamcivichall.com/wp-content/uploads/2025/11/BadCo-rec.jpg
ORGANIZER;CN="SCREAMING TARTS PRESENTS...":MAILTO:martyn@screamingtartspresents.com
END:VEVENT
BEGIN:VEVENT
DTSTART;TZID=Europe/London:20261010T193000
DTEND;TZID=Europe/London:20261010T230000
DTSTAMP:20260422T134549
CREATED:20251123T141011Z
LAST-MODIFIED:20251123T141402Z
UID:15272-1791660600-1791673200@www.cottinghamcivichall.com
SUMMARY:SCREAMING TARTS PRESENTS... Green Haze
DESCRIPTION:Touring extensively across the UK\, Europe and internationally\, Green Haze are officially the most in-demand and sought after tributes to one of the best rock bands the world has ever seen – Green Day! \nGreen Haze go to every length to capture the raw power and dynamics of Green Day’s music and bring it to life on stage with full 2+ hour stage show. With both the music and the look\, their energy packed show comes complete with costumes\, fun crowd interaction\, on-stage antics and all of the trimmings that make a Green Day live show so recognisable to their fans. It is this attention to detail that makes Green Haze the most authentic Green Day tribute band on the circuit today. \nAll of Green Day’s albums are well represented from the first to present day\, covering all of the hits like Basket Case\, When I Come Around\, American Idiot\, Holiday and Wake Me Up When September Ends to name but a few. \nThis is a night no Green Day fan will want to miss!! \nTickets on sale here >>>\nhttps://www.seetickets.com/event/green-haze/the-civic-hall/3552222
URL:https://www.cottinghamcivichall.com/event/screaming-tarts-presents-green-haze/
CATEGORIES:Concerts
ATTACH;FMTTYPE=image/jpeg:https://www.cottinghamcivichall.com/wp-content/uploads/2025/11/GREENHAZE__rec.jpg
ORGANIZER;CN="SCREAMING TARTS PRESENTS...":MAILTO:martyn@screamingtartspresents.com
END:VEVENT
END:VCALENDAR